BEGIN:VCALENDAR
VERSION:2.0
PRODID:-//Eagle Beam - ECPv6.15.17.1//NONSGML v1.0//EN
CALSCALE:GREGORIAN
METHOD:PUBLISH
X-WR-CALNAME:Eagle Beam
X-ORIGINAL-URL:https://www.eaglebeamlights.com
X-WR-CALDESC:Events for Eagle Beam
REFRESH-INTERVAL;VALUE=DURATION:PT1H
X-Robots-Tag:noindex
X-PUBLISHED-TTL:PT1H
BEGIN:VTIMEZONE
TZID:UTC
BEGIN:STANDARD
TZOFFSETFROM:+0000
TZOFFSETTO:+0000
TZNAME:UTC
DTSTART:20170101T000000
END:STANDARD
END:VTIMEZONE
BEGIN:VEVENT
DTSTART;VALUE=DATE:20190316
DTEND;VALUE=DATE:20190318
DTSTAMP:20260422T223742
CREATED:20190107T201331Z
LAST-MODIFIED:20190107T201331Z
UID:2598-1552694400-1552867199@www.eaglebeamlights.com
SUMMARY:Gun Show - West Palm Beach\, FL
DESCRIPTION:Sports Show Specialists – Gun Show – West Palm Beach\, FL \nSAT: 3/16/19:  9am – 5pm\nSUN: 3/17/19:  10am – 4pm
URL:https://www.eaglebeamlights.com/event/gun-show-west-palm-beach-fl-5/
LOCATION:South Florida Fairgrounds
CATEGORIES:Gun Show
END:VEVENT
BEGIN:VEVENT
DTSTART;VALUE=DATE:20190315
DTEND;VALUE=DATE:20190318
DTSTAMP:20260422T223742
CREATED:20190226T232748Z
LAST-MODIFIED:20190226T232748Z
UID:2657-1552608000-1552867199@www.eaglebeamlights.com
SUMMARY:Home Show - Tampa\, FL
DESCRIPTION:Turner Home Shows – Home Show – Tampa\, FL \nFRI: 3/15/19:  10am – 6pm\nSAT: 3/16/19:  10am – 6pm\nSUN: 3/17/19: 10am – 5pm
URL:https://www.eaglebeamlights.com/event/home-show-tampa-fl-2/
LOCATION:Florida State Fairgrounds
CATEGORIES:Boat/Home/RV Show
END:VEVENT
BEGIN:VEVENT
DTSTART;VALUE=DATE:20190228
DTEND;VALUE=DATE:20190311
DTSTAMP:20260422T223742
CREATED:20190221T225100Z
LAST-MODIFIED:20190221T225824Z
UID:2644-1551312000-1552262399@www.eaglebeamlights.com
SUMMARY:Florida Strawberry Festival
DESCRIPTION:Florida Strawberry Festival – Plant City\, FL \nTHU 2/28/19 – SUN 3/10/19
URL:https://www.eaglebeamlights.com/event/florida-strawberry-festival/
LOCATION:Florida Strawberry Festival\, 303 N Lemon Street\, Plant City\, FL\, 33563
CATEGORIES:State Fair
END:VEVENT
BEGIN:VEVENT
DTSTART;VALUE=DATE:20190223
DTEND;VALUE=DATE:20190225
DTSTAMP:20260422T223742
CREATED:20181121T003511Z
LAST-MODIFIED:20181121T003511Z
UID:2530-1550880000-1551052799@www.eaglebeamlights.com
SUMMARY:Gun Show - Tampa\, FL
DESCRIPTION:Florida Gun Shows – Gun Show – Tampa\, FL \nSAT: 2/23/19:  9am – 5pm\nSUN: 2/24/19: 10am – 5pm
URL:https://www.eaglebeamlights.com/event/gun-show-tampa-fl-3/
LOCATION:Florida State Fairgrounds
CATEGORIES:Gun Show
END:VEVENT
BEGIN:VEVENT
DTSTART;VALUE=DATE:20190223
DTEND;VALUE=DATE:20190225
DTSTAMP:20260422T223742
CREATED:20181121T002835Z
LAST-MODIFIED:20181121T002835Z
UID:2528-1550880000-1551052799@www.eaglebeamlights.com
SUMMARY:Tiny Home Show - Tampa\, FL
DESCRIPTION:Great American Tiny Home Shows – Tiny Home Show – Tampa\, FL \nSAT: 2/23/19:  9am – 6pm\nSUN: 2/24/19:  9am – 5pm
URL:https://www.eaglebeamlights.com/event/tiny-home-show-tampa-fl/
LOCATION:Florida State Fairgrounds
CATEGORIES:Boat/Home/RV Show
END:VEVENT
BEGIN:VEVENT
DTSTART;VALUE=DATE:20190216
DTEND;VALUE=DATE:20190218
DTSTAMP:20260422T223742
CREATED:20181121T002442Z
LAST-MODIFIED:20181121T002442Z
UID:2525-1550275200-1550447999@www.eaglebeamlights.com
SUMMARY:Gun Show - Miami\, FL
DESCRIPTION:Florida Gun Shows – Gun Show – Miami\, Fl \nSAT: 2/16/19:  9am – 5pm\nSUN: 2/17/19:  10am – 5pm \n 
URL:https://www.eaglebeamlights.com/event/gun-show-miami-fl-2/
LOCATION:Miami-Dade County Fairgrounds
CATEGORIES:Gun Show
END:VEVENT
BEGIN:VEVENT
DTSTART;VALUE=DATE:20190216
DTEND;VALUE=DATE:20190218
DTSTAMP:20260422T223742
CREATED:20181121T001752Z
LAST-MODIFIED:20181121T001752Z
UID:2523-1550275200-1550447999@www.eaglebeamlights.com
SUMMARY:Gun Show - West Palm Beach\, FL
DESCRIPTION:Sports Show Specialists – Gun Show – West Palm Beach\, FL \nSAT: 2/16/19:  9am – 5pm\nSUN: 2/17/19:  10am – 4pm \n 
URL:https://www.eaglebeamlights.com/event/gun-show-west-palm-beach-fl-4/
LOCATION:South Florida Fairgrounds
CATEGORIES:Gun Show
END:VEVENT
BEGIN:VEVENT
DTSTART;VALUE=DATE:20190207
DTEND;VALUE=DATE:20190219
DTSTAMP:20260422T223742
CREATED:20181121T000343Z
LAST-MODIFIED:20181121T000714Z
UID:2519-1549497600-1550534399@www.eaglebeamlights.com
SUMMARY:Florida State Fair - Tampa\, FL
DESCRIPTION:Florida State Fair – Tampa\, FL \nTHU: 2/7/19 – MON: 2/18/19
URL:https://www.eaglebeamlights.com/event/florida-state-fair-tampa-fl/
LOCATION:Florida State Fairgrounds
CATEGORIES:State Fair
END:VEVENT
BEGIN:VEVENT
DTSTART;VALUE=DATE:20190202
DTEND;VALUE=DATE:20190204
DTSTAMP:20260422T223742
CREATED:20181120T234823Z
LAST-MODIFIED:20181120T234823Z
UID:2517-1549065600-1549238399@www.eaglebeamlights.com
SUMMARY:Gun Show - Melbourne\, FL
DESCRIPTION:Sports Show Specialists – Gun Show – Melbourne\, FL \nSAT: 2/2/19:  9am – 5pm\nSUN: 2/3/19  9am – 4pm
URL:https://www.eaglebeamlights.com/event/gun-show-melbourne-fl-4/
LOCATION:Melbourne Auditorium
CATEGORIES:Gun Show
END:VEVENT
BEGIN:VEVENT
DTSTART;VALUE=DATE:20190202
DTEND;VALUE=DATE:20190204
DTSTAMP:20260422T223742
CREATED:20181120T234628Z
LAST-MODIFIED:20181120T234628Z
UID:2515-1549065600-1549238399@www.eaglebeamlights.com
SUMMARY:Gun Show - Ft. Myers\, FL
DESCRIPTION:Florida Gun Shows – Gun Show – Ft. Myers\, Fl \nSAT: 2/2/19:  9am – 5pm\nSUN: 2/3/19:  10am – 5pm
URL:https://www.eaglebeamlights.com/event/gun-show-ft-myers-fl-3/
LOCATION:Lee Civic Center
CATEGORIES:Gun Show
END:VEVENT
BEGIN:VEVENT
DTSTART;VALUE=DATE:20190202
DTEND;VALUE=DATE:20190204
DTSTAMP:20260422T223742
CREATED:20181120T234430Z
LAST-MODIFIED:20181120T234430Z
UID:2513-1549065600-1549238399@www.eaglebeamlights.com
SUMMARY:Gun Show - Valdosta\, GA
DESCRIPTION:EastMan Gun Shows – Gun Show – Valdosta\, GA \nSAT: 2/2/19: 9am – 5pm\nSUN: 2/3/19: 10am – 4pm
URL:https://www.eaglebeamlights.com/event/gun-show-valdosta-ga-3/
LOCATION:James Rainwater Convention Center
CATEGORIES:Gun Show
END:VEVENT
BEGIN:VEVENT
DTSTART;VALUE=DATE:20190126
DTEND;VALUE=DATE:20190128
DTSTAMP:20260422T223742
CREATED:20181120T230025Z
LAST-MODIFIED:20181120T230025Z
UID:2509-1548460800-1548633599@www.eaglebeamlights.com
SUMMARY:Gun Show - Palmetto\, FL
DESCRIPTION:Florida Gun Shows – Gun Show – Palmetto\, Fl \nSAT: 1/26/19:  9am – 5pm\nSUN: 1/27/19:  10am – 5pm
URL:https://www.eaglebeamlights.com/event/gun-show-palmetto-fl-3/
LOCATION:Bradenton Area Convention Center
CATEGORIES:Gun Show
END:VEVENT
BEGIN:VEVENT
DTSTART;VALUE=DATE:20190125
DTEND;VALUE=DATE:20190128
DTSTAMP:20260422T223742
CREATED:20181120T230217Z
LAST-MODIFIED:20181120T230217Z
UID:2511-1548374400-1548633599@www.eaglebeamlights.com
SUMMARY:Home Show - St. Petersburg\, FL
DESCRIPTION:Tampa Bay Times – Home Show – St. Petersburg\, Fl \nFRI: 1/25/19:  10am – 6pm\nSAT: 1/26/19:  10am – 6pm\nSUN: 1/27/19:  10am – 5pm
URL:https://www.eaglebeamlights.com/event/home-show-st-petersburg-fl/
LOCATION:Tropicana Field\, St. Pete
CATEGORIES:Boat/Home/RV Show
END:VEVENT
BEGIN:VEVENT
DTSTART;VALUE=DATE:20190119
DTEND;VALUE=DATE:20190121
DTSTAMP:20260422T223742
CREATED:20181120T225732Z
LAST-MODIFIED:20181120T225732Z
UID:2507-1547856000-1548028799@www.eaglebeamlights.com
SUMMARY:Gun Show - Miami\, FL
DESCRIPTION:Florida Gun Shows – Gun Show – Miami\, Fl \nSAT: 1/19/19:  9am – 5pm\nSUN: 1/20/20:  10am – 5pm
URL:https://www.eaglebeamlights.com/event/gun-show-miami-fl/
LOCATION:Miami-Dade County Fairgrounds
CATEGORIES:Gun Show
END:VEVENT
BEGIN:VEVENT
DTSTART;VALUE=DATE:20190118
DTEND;VALUE=DATE:20190204
DTSTAMP:20260422T223742
CREATED:20181120T225142Z
LAST-MODIFIED:20181120T225511Z
UID:2503-1547769600-1549238399@www.eaglebeamlights.com
SUMMARY:South Florida Fair - West Palm Beach\, FL
DESCRIPTION:South Florida Fair – West Palm Beach\, FL \nFRI: 1/18/19: – SUN: 2/3/19 \n 
URL:https://www.eaglebeamlights.com/event/south-florida-fair-west-palm-beach-fl/
LOCATION:South Florida Fairgrounds
CATEGORIES:State Fair
END:VEVENT
BEGIN:VEVENT
DTSTART;VALUE=DATE:20190115
DTEND;VALUE=DATE:20190121
DTSTAMP:20260422T223742
CREATED:20181120T224724Z
LAST-MODIFIED:20181120T224927Z
UID:2499-1547510400-1548028799@www.eaglebeamlights.com
SUMMARY:RV SuperShow - Tampa\, FL
DESCRIPTION:Florida RV Trade Association – RV Show – Tampa\, FL \nTUE: 1/15/19:  – SUN: 1/20/19:  10am – 6pm \n  \n 
URL:https://www.eaglebeamlights.com/event/rv-supershow-tampa-fl/
LOCATION:Florida State Fairgrounds
CATEGORIES:Boat/Home/RV Show
END:VEVENT
BEGIN:VEVENT
DTSTART;VALUE=DATE:20190105
DTEND;VALUE=DATE:20190107
DTSTAMP:20260422T223742
CREATED:20181120T223315Z
LAST-MODIFIED:20181120T223315Z
UID:2497-1546646400-1546819199@www.eaglebeamlights.com
SUMMARY:Gun Show - Orlando\, FL
DESCRIPTION:Florida Gun Shows – Gun Show – Orlando\, FL \nSAT: 1/5/19:  9am – 5pm\nSUN: 1/6/19: 10am – 5pm
URL:https://www.eaglebeamlights.com/event/gun-show-orlando-fl-3/
LOCATION:Central Florida Fairgrounds
CATEGORIES:Gun Show
END:VEVENT
BEGIN:VEVENT
DTSTART;VALUE=DATE:20181229
DTEND;VALUE=DATE:20181231
DTSTAMP:20260422T223742
CREATED:20181003T174108Z
LAST-MODIFIED:20181003T174108Z
UID:2463-1546041600-1546214399@www.eaglebeamlights.com
SUMMARY:Gun Show - Melbourne\, FL
DESCRIPTION:Sports Show Specialists – Gun Show – Melbourne\, FL \nSAT: 12/29/18:  9am – 5pm\nSUN: 12/30/18:  9am – 4pm
URL:https://www.eaglebeamlights.com/event/gun-show-melbourne-fl-3/
LOCATION:Melbourne Auditorium
CATEGORIES:Gun Show
END:VEVENT
BEGIN:VEVENT
DTSTART;VALUE=DATE:20181215
DTEND;VALUE=DATE:20181217
DTSTAMP:20260422T223742
CREATED:20181031T170646Z
LAST-MODIFIED:20181120T225533Z
UID:2481-1544832000-1545004799@www.eaglebeamlights.com
SUMMARY:Gun Show - Atlanta\, GA
DESCRIPTION:RK Shows – Gun Show – Atlanta\, GA \nSAT 12/15/18:  9am – 5pm\nSUN 12/16/18:  10am – 4pm
URL:https://www.eaglebeamlights.com/event/gun-show-atlanta-ga/
LOCATION:Atlanta Expo Center\, 3650 Jonesboro Rd\, Atlanta\, GA - Georgia\, 30252
CATEGORIES:Gun Show
END:VEVENT
BEGIN:VEVENT
DTSTART;VALUE=DATE:20181215
DTEND;VALUE=DATE:20181217
DTSTAMP:20260422T223742
CREATED:20181003T173913Z
LAST-MODIFIED:20181003T173913Z
UID:2461-1544832000-1545004799@www.eaglebeamlights.com
SUMMARY:Gun Show - West Palm Beach\, FL
DESCRIPTION:Sports Show Specialists – Gun Show – West Palm Beach\, FL \nSAT: 12/15/18:  9am – 5pm\nSUN: 12/16/18:  10am – 4pm
URL:https://www.eaglebeamlights.com/event/gun-show-west-palm-beach-fl-3/
LOCATION:South Florida Fairgrounds
CATEGORIES:Gun Show
END:VEVENT
BEGIN:VEVENT
DTSTART;VALUE=DATE:20181215
DTEND;VALUE=DATE:20181217
DTSTAMP:20260422T223742
CREATED:20181003T173725Z
LAST-MODIFIED:20181003T173725Z
UID:2459-1544832000-1545004799@www.eaglebeamlights.com
SUMMARY:Gun Show - Ft Myers\, FL
DESCRIPTION:Florida Gun Shows – Gun Show – Ft Myers\, FL \nSAT: 12/15/18:  9am – 5pm\nSUN: 12/16/18:  10am – 5pm
URL:https://www.eaglebeamlights.com/event/gun-show-ft-myers-fl-2/
LOCATION:Lee Civic Center
CATEGORIES:Gun Show
END:VEVENT
BEGIN:VEVENT
DTSTART;VALUE=DATE:20181208
DTEND;VALUE=DATE:20181210
DTSTAMP:20260422T223742
CREATED:20181003T173232Z
LAST-MODIFIED:20181003T173232Z
UID:2457-1544227200-1544399999@www.eaglebeamlights.com
SUMMARY:Gun Show - Palmetto\, FL
DESCRIPTION:Florida Gun Shows – Gun Show – Palmetto\, FL \nSAT: 12/8/18:  9am – 5pm\nSUN 12/9/18:  10am – 5pm
URL:https://www.eaglebeamlights.com/event/gun-show-palmetto-fl-2/
LOCATION:Bradenton Area Convention Center
CATEGORIES:Gun Show
END:VEVENT
BEGIN:VEVENT
DTSTART;VALUE=DATE:20181201
DTEND;VALUE=DATE:20181203
DTSTAMP:20260422T223742
CREATED:20181003T173032Z
LAST-MODIFIED:20181003T173032Z
UID:2455-1543622400-1543795199@www.eaglebeamlights.com
SUMMARY:Gun Show - Tampa\, FL
DESCRIPTION:Florida Gun Shows – Gun Show – Tampa\, FL \nSAT: 12/1/18:  9am – 5pm\nSUN: 12/2/18:  10am – 5pm
URL:https://www.eaglebeamlights.com/event/gun-show-tampa-fl-2/
LOCATION:Florida State Fairgrounds
CATEGORIES:Gun Show
END:VEVENT
BEGIN:VEVENT
DTSTART;VALUE=DATE:20181124
DTEND;VALUE=DATE:20181126
DTSTAMP:20260422T223742
CREATED:20181003T164507Z
LAST-MODIFIED:20181003T164507Z
UID:2453-1543017600-1543190399@www.eaglebeamlights.com
SUMMARY:Gun Show - Orlando\, FL
DESCRIPTION:Florida Gun Shows – Gun Show – Orlando\, FL \nSAT: 11/24/18:  9am – 5pm\nSUN: 11/25/18:  10am – 5pm
URL:https://www.eaglebeamlights.com/event/gun-show-orlando-fl-2/
LOCATION:Central Florida Fairgrounds
CATEGORIES:Gun Show
END:VEVENT
BEGIN:VEVENT
DTSTART;VALUE=DATE:20181117
DTEND;VALUE=DATE:20181119
DTSTAMP:20260422T223742
CREATED:20181003T163859Z
LAST-MODIFIED:20181003T164015Z
UID:2450-1542412800-1542585599@www.eaglebeamlights.com
SUMMARY:Holiday Show - St Petersburg\, FL
DESCRIPTION:Tampa Bay Times – Holiday Market – St Petersburg\, FL \nSAT: 11/17/18:  10am – 5pm\nSUN: 11/18/18:  10am – 5pm
URL:https://www.eaglebeamlights.com/event/holiday-show-st-petersburg-fl/
LOCATION:The Coliseum\, St. Pete
CATEGORIES:Expo
END:VEVENT
BEGIN:VEVENT
DTSTART;VALUE=DATE:20181117
DTEND;VALUE=DATE:20181119
DTSTAMP:20260422T223742
CREATED:20181003T163047Z
LAST-MODIFIED:20181003T174136Z
UID:2448-1542412800-1542585599@www.eaglebeamlights.com
SUMMARY:Gun Show - Melbourne\, FL
DESCRIPTION:Sport Show Specialists – Gun Show – Melbourne\, FL \nSAT: 11/17/18:  9am – 5pm\nSUN: 11/18/18:  9am – 4pm
URL:https://www.eaglebeamlights.com/event/gun-show-melbourne-fl-2/
LOCATION:South Florida Fairgrounds
CATEGORIES:Gun Show
END:VEVENT
BEGIN:VEVENT
DTSTART;VALUE=DATE:20181116
DTEND;VALUE=DATE:20181119
DTSTAMP:20260422T223742
CREATED:20181003T162508Z
LAST-MODIFIED:20181003T162759Z
UID:2444-1542326400-1542585599@www.eaglebeamlights.com
SUMMARY:Waterfest/Block Party - Englewood\, FL
DESCRIPTION:Waterfest Inc. – Race Event/Block Party – Englewood\, FL \nFRI: 11/16/18:  4pm – 10pm\nSAT: 11/17/18:  9am – 6pm\nSUN: 11/18/18:  9am – 6pm
URL:https://www.eaglebeamlights.com/event/waterfest-block-party-englewood-fl/
LOCATION:Englewood Beach/Dearborn St.
CATEGORIES:Expo
END:VEVENT
BEGIN:VEVENT
DTSTART;VALUE=DATE:20181110
DTEND;VALUE=DATE:20181112
DTSTAMP:20260422T223742
CREATED:20181003T161422Z
LAST-MODIFIED:20181003T161721Z
UID:2440-1541808000-1541980799@www.eaglebeamlights.com
SUMMARY:Gun Show - Perry\, GA
DESCRIPTION:Eastman Gun Shows – Gun Show – Perry\, GA \nSAT: 11/10/18  9am – 5pm\nSUN: 11/11/18  10am – 4pm
URL:https://www.eaglebeamlights.com/event/gun-show-valdosta-ga-2/
LOCATION:Georgia National Fairgrounds
CATEGORIES:Gun Show
END:VEVENT
BEGIN:VEVENT
DTSTART;VALUE=DATE:20181110
DTEND;VALUE=DATE:20181112
DTSTAMP:20260422T223742
CREATED:20181003T160631Z
LAST-MODIFIED:20181003T160631Z
UID:2438-1541808000-1541980799@www.eaglebeamlights.com
SUMMARY:Gun Show - West Palm Beach\, FL
DESCRIPTION:Sports Show Specialists – Gun Show – West Palm Beach\, FL \nSAT: 11/10/18:  9am – 5pm\nSUN: 11/11/18: 10am – 4pm
URL:https://www.eaglebeamlights.com/event/gun-show-west-palm-beach-fl-2/
LOCATION:South Florida Fairgrounds
CATEGORIES:Gun Show
END:VEVENT
BEGIN:VEVENT
DTSTART;VALUE=DATE:20181110
DTEND;VALUE=DATE:20181112
DTSTAMP:20260422T223742
CREATED:20181003T160249Z
LAST-MODIFIED:20181003T160425Z
UID:2433-1541808000-1541980799@www.eaglebeamlights.com
SUMMARY:Gun Show - Lakeland\, FL
DESCRIPTION:Florida Gun Shows – Gun Show – Lakeland\, FL \nSAT: 11/10/18:  9am – 5pm\nSUN: 11/11/18:  10am – 5pm
URL:https://www.eaglebeamlights.com/event/gun-show-lakeland-fl/
LOCATION:RP Funding Center
CATEGORIES:Gun Show
END:VEVENT
END:VCALENDAR