BEGIN:VCALENDAR
VERSION:2.0
PRODID:-//Eagle Beam - ECPv6.15.17.1//NONSGML v1.0//EN
CALSCALE:GREGORIAN
METHOD:PUBLISH
X-WR-CALNAME:Eagle Beam
X-ORIGINAL-URL:https://www.eaglebeamlights.com
X-WR-CALDESC:Events for Eagle Beam
REFRESH-INTERVAL;VALUE=DURATION:PT1H
X-Robots-Tag:noindex
X-PUBLISHED-TTL:PT1H
BEGIN:VTIMEZONE
TZID:UTC
BEGIN:STANDARD
TZOFFSETFROM:+0000
TZOFFSETTO:+0000
TZNAME:UTC
DTSTART:20180101T000000
END:STANDARD
END:VTIMEZONE
BEGIN:VEVENT
DTSTART;VALUE=DATE:20190831
DTEND;VALUE=DATE:20190902
DTSTAMP:20260422T222147
CREATED:20190515T134534Z
LAST-MODIFIED:20190515T134534Z
UID:2793-1567209600-1567382399@www.eaglebeamlights.com
SUMMARY:Gun Show - Miami\, FL
DESCRIPTION:Florida Gun Shows – Gun Show – Miami\, FL \nSAT: 8/31/19:  9am – 5pm\nSUN: 9/1/19:  10am – 5pm
URL:https://www.eaglebeamlights.com/event/gun-show-miami-fl-6/
LOCATION:Miami-Dade County Fairgrounds
CATEGORIES:Gun Show
END:VEVENT
BEGIN:VEVENT
DTSTART;VALUE=DATE:20190824
DTEND;VALUE=DATE:20190826
DTSTAMP:20260422T222147
CREATED:20190515T134300Z
LAST-MODIFIED:20190515T134300Z
UID:2791-1566604800-1566777599@www.eaglebeamlights.com
SUMMARY:Gun Show - Tampa\, FL
DESCRIPTION:Florida Gun Shows – Gun Show – Tampa\, FL \nSAT: 8/24/19:  9am – 5pm\nSUN: 8/25/19:  10am – 5pm
URL:https://www.eaglebeamlights.com/event/gun-show-tampa-fl-6/
LOCATION:Florida State Fairgrounds
CATEGORIES:Gun Show
END:VEVENT
BEGIN:VEVENT
DTSTART;VALUE=DATE:20190821
DTEND;VALUE=DATE:20190903
DTSTAMP:20260422T222147
CREATED:20190702T155939Z
LAST-MODIFIED:20190702T155939Z
UID:2843-1566345600-1567468799@www.eaglebeamlights.com
SUMMARY:New York State Fair
DESCRIPTION:New York State Fair \nAUG 21 – SEP 2
URL:https://www.eaglebeamlights.com/event/new-york-state-fair/
LOCATION:New York State Fairgrounds\, 581 State Fair Blvd\, Syracuse\, NY\, 13209
CATEGORIES:State Fair
END:VEVENT
BEGIN:VEVENT
DTSTART;VALUE=DATE:20190817
DTEND;VALUE=DATE:20190819
DTSTAMP:20260422T222147
CREATED:20190515T134114Z
LAST-MODIFIED:20190515T134114Z
UID:2789-1566000000-1566172799@www.eaglebeamlights.com
SUMMARY:Gun Show - Orlando\, FL
DESCRIPTION:Florida Gun Shows – Orlando\, FL \nSAT: 8/17/19:  9am – 5pm\nSUN: 8/18/19:  10am – 5pm
URL:https://www.eaglebeamlights.com/event/gun-show-orlando-fl-8/
LOCATION:Central Florida Fairgrounds
CATEGORIES:Gun Show
END:VEVENT
BEGIN:VEVENT
DTSTART;VALUE=DATE:20190817
DTEND;VALUE=DATE:20190819
DTSTAMP:20260422T222147
CREATED:20190514T164502Z
LAST-MODIFIED:20190514T164502Z
UID:2782-1566000000-1566172799@www.eaglebeamlights.com
SUMMARY:Gun Show - Orlando\, FL
DESCRIPTION:Florida Gun Shows – Gun Show – Orlando\, FL \nSAT: 8/17/19:  9am – 5pm\nSUN: 8/18/19: 10am – 5pm
URL:https://www.eaglebeamlights.com/event/gun-show-orlando-fl-7/
LOCATION:Central Florida Fairgrounds
CATEGORIES:Gun Show
END:VEVENT
BEGIN:VEVENT
DTSTART;VALUE=DATE:20190816
DTEND;VALUE=DATE:20190827
DTSTAMP:20260422T222147
CREATED:20190702T155327Z
LAST-MODIFIED:20190702T155646Z
UID:2838-1565913600-1566863999@www.eaglebeamlights.com
SUMMARY:Kentucky State Fair
DESCRIPTION:Kentucky State Fair \nAUG 16 – AUG 26
URL:https://www.eaglebeamlights.com/event/kentucky-state-fair/
LOCATION:Kentucky State Fairgrounds\, 937 Phillips Lane\, Louisville\, KY\, 40209
CATEGORIES:State Fair
END:VEVENT
BEGIN:VEVENT
DTSTART;VALUE=DATE:20190810
DTEND;VALUE=DATE:20190812
DTSTAMP:20260422T222147
CREATED:20190515T133925Z
LAST-MODIFIED:20190515T133925Z
UID:2787-1565395200-1565567999@www.eaglebeamlights.com
SUMMARY:Gun Show - Pembroke Pines\, FL
DESCRIPTION:Florida Gun Shows – Gun Show – Pembroke Pines\, FL \nSAT: 8/10/19:  9am – 5pm\nSUN: 8/11/19:  10am – 5pm
URL:https://www.eaglebeamlights.com/event/gun-show-pembroke-pines-fl/
LOCATION:Charles F. Dodge City Center Pembroke Pines\, 601 City Center Way\, Pembroke Pines\, FL\, 33025\, United States
CATEGORIES:Gun Show
END:VEVENT
BEGIN:VEVENT
DTSTART;VALUE=DATE:20190803
DTEND;VALUE=DATE:20190805
DTSTAMP:20260422T222147
CREATED:20190514T154200Z
LAST-MODIFIED:20190514T154200Z
UID:2780-1564790400-1564963199@www.eaglebeamlights.com
SUMMARY:Gun Show - Ft Myers\, FL
DESCRIPTION:Florida Gun Shows – Gun Show – Ft Myers\, FL \nSAT: 8/3/19:  9am – 5pm\nSUN: 8/4/19:  10am – 5pm
URL:https://www.eaglebeamlights.com/event/gun-show-ft-myers-fl-5/
LOCATION:Lee Civic Center
CATEGORIES:Gun Show
END:VEVENT
BEGIN:VEVENT
DTSTART;VALUE=DATE:20190727
DTEND;VALUE=DATE:20190729
DTSTAMP:20260422T222147
CREATED:20190514T144356Z
LAST-MODIFIED:20190514T144356Z
UID:2777-1564185600-1564358399@www.eaglebeamlights.com
SUMMARY:Gun Show - Lakeland\, FL
DESCRIPTION:Florida Gun Shows – Lakeland\, FL \nSAT: 7/27/19:  9am – 5pm\nSUN: 7/28/19:  10am – 5pm
URL:https://www.eaglebeamlights.com/event/gun-show-lakeland-fl-2/
LOCATION:RP Funding Center
CATEGORIES:Gun Show
END:VEVENT
BEGIN:VEVENT
DTSTART;VALUE=DATE:20190724
DTEND;VALUE=DATE:20190805
DTSTAMP:20260422T222147
CREATED:20190514T144040Z
LAST-MODIFIED:20190514T144217Z
UID:2773-1563926400-1564963199@www.eaglebeamlights.com
SUMMARY:Ohio State Fair
DESCRIPTION:Ohio State Fair \nJULY 24th – AUGUST 4th
URL:https://www.eaglebeamlights.com/event/ohio-state-fair-2/
LOCATION:Ohio Expo Center & Fairgrounds\, 717 E 17th Ave\, Columbus\, OH\, 43211-2698
CATEGORIES:State Fair
END:VEVENT
BEGIN:VEVENT
DTSTART;VALUE=DATE:20190720
DTEND;VALUE=DATE:20190722
DTSTAMP:20260422T222147
CREATED:20190514T143752Z
LAST-MODIFIED:20190514T143752Z
UID:2771-1563580800-1563753599@www.eaglebeamlights.com
SUMMARY:Gun Show - Miami\, FL
DESCRIPTION:Florida Gun Shows – Gun Show – Miami\, FL \nSAT:  7/20/19:  9am – 5pm\nSUN: 7/21/19:  10am – 5pm
URL:https://www.eaglebeamlights.com/event/gun-show-miami-fl-5/
LOCATION:South Florida Fairgrounds
CATEGORIES:Gun Show
END:VEVENT
BEGIN:VEVENT
DTSTART;VALUE=DATE:20190713
DTEND;VALUE=DATE:20190715
DTSTAMP:20260422T222147
CREATED:20190514T142942Z
LAST-MODIFIED:20190514T142944Z
UID:2769-1562976000-1563148799@www.eaglebeamlights.com
SUMMARY:Gun Show - Palmetto\, FL
DESCRIPTION:Florida Gun Shows – Gun Show – Palmetto\, FL \nSAT:  7/13/19:  9am – 5pm\nSUN:  7/14/19:  10am – 5pm
URL:https://www.eaglebeamlights.com/event/gun-show-palmetto-fl-5/
LOCATION:Bradenton Area Convention Center
CATEGORIES:Gun Show
END:VEVENT
BEGIN:VEVENT
DTSTART;VALUE=DATE:20190706
DTEND;VALUE=DATE:20190708
DTSTAMP:20260422T222147
CREATED:20190514T142722Z
LAST-MODIFIED:20190514T142722Z
UID:2767-1562371200-1562543999@www.eaglebeamlights.com
SUMMARY:Gun Show - Orlando\, FL
DESCRIPTION:Florida Gun Shows – Gun Show – Orlando\, Fl \nSAT:  7/6/19:  9am – 5pm\nSUN:  7/7/19:  10am – 5pm
URL:https://www.eaglebeamlights.com/event/gun-show-orlando-fl-6/
LOCATION:Central Florida Fairgrounds
CATEGORIES:Gun Show
END:VEVENT
BEGIN:VEVENT
DTSTART;VALUE=DATE:20190629
DTEND;VALUE=DATE:20190701
DTSTAMP:20260422T222147
CREATED:20190409T171711Z
LAST-MODIFIED:20190409T171711Z
UID:2699-1561766400-1561939199@www.eaglebeamlights.com
SUMMARY:Gun Show - Tampa\, FL
DESCRIPTION:Florida Gun Shows – Gun Show – Tampa\, FL \nSAT: 6/29/19:  9am – 5pm\nSUN: 6/30/19:  10am – 5pm
URL:https://www.eaglebeamlights.com/event/gun-show-tampa-fl-5/
LOCATION:Florida State Fairgrounds
CATEGORIES:Gun Show
END:VEVENT
BEGIN:VEVENT
DTSTART;VALUE=DATE:20190621
DTEND;VALUE=DATE:20190624
DTSTAMP:20260422T222147
CREATED:20190409T171523Z
LAST-MODIFIED:20190409T171523Z
UID:2697-1561075200-1561334399@www.eaglebeamlights.com
SUMMARY:Home Show - St. Petersburg\, FL
DESCRIPTION:Tampa Bay Times – Home Show – St. Petersburg\, FL \nFRI: 6/21/19:  10am – 6pm\nSAT: 6/22/19:  10am – 6pm\nSUN:6/23/19:  10am – 5pm
URL:https://www.eaglebeamlights.com/event/home-show-st-petersburg-fl-2/
LOCATION:Tropicana Field\, St. Pete
CATEGORIES:Boat/Home/RV Show
END:VEVENT
BEGIN:VEVENT
DTSTART;VALUE=DATE:20190608
DTEND;VALUE=DATE:20190610
DTSTAMP:20260422T222147
CREATED:20190409T171243Z
LAST-MODIFIED:20190409T171243Z
UID:2695-1559952000-1560124799@www.eaglebeamlights.com
SUMMARY:Gun Show - Ft. Myers\, FL
DESCRIPTION:Florida Gun Shows – Gun Show – Ft. Myers\, FL \nSAT: 6/8/19:  9am – 5pm\nSUN: 6/9/19:  10am – 5pm
URL:https://www.eaglebeamlights.com/event/gun-show-ft-myers-fl-4/
LOCATION:Lee Civic Center
CATEGORIES:Gun Show
END:VEVENT
BEGIN:VEVENT
DTSTART;VALUE=DATE:20190525
DTEND;VALUE=DATE:20190527
DTSTAMP:20260422T222147
CREATED:20190409T171003Z
LAST-MODIFIED:20190409T171003Z
UID:2693-1558742400-1558915199@www.eaglebeamlights.com
SUMMARY:Gun Show - Miami\, FL
DESCRIPTION:Florida Gun Shows – Gun Show – Miami\, FL \nSAT: 5/25/19:  9am – 5pm\nSUN: 5/26/19:  10am – 5pm
URL:https://www.eaglebeamlights.com/event/gun-show-miami-fl-4/
LOCATION:Miami-Dade County Fairgrounds
CATEGORIES:Gun Show
END:VEVENT
BEGIN:VEVENT
DTSTART;VALUE=DATE:20190518
DTEND;VALUE=DATE:20190520
DTSTAMP:20260422T222147
CREATED:20190409T170511Z
LAST-MODIFIED:20190409T170511Z
UID:2691-1558137600-1558310399@www.eaglebeamlights.com
SUMMARY:Gun Show - Orlando\, FL
DESCRIPTION:Florida Gun Shows – Gun Show – Orlando\, FL \nSAT: 5/18/19:  9am – 5pm\nSUN: 5/19/19:  10am – 5pm
URL:https://www.eaglebeamlights.com/event/gun-show-orlando-fl-5/
LOCATION:Central Florida Fairgrounds
CATEGORIES:Gun Show
END:VEVENT
BEGIN:VEVENT
DTSTART;VALUE=DATE:20190517
DTEND;VALUE=DATE:20190520
DTSTAMP:20260422T222147
CREATED:20190409T170108Z
LAST-MODIFIED:20190409T170108Z
UID:2689-1558051200-1558310399@www.eaglebeamlights.com
SUMMARY:Boat Show - St. Petersburg\, FL
DESCRIPTION:Tampa Bay Times – Boat Show – St. Petersburg\, FL \nFRI: 5/17/19:  10am – 6pm\nSAT: 5/18/19:  10am – 6pm\nSUN:5/19/19:  10am – 5pm
URL:https://www.eaglebeamlights.com/event/boat-show-st-petersburg-fl/
LOCATION:Tropicana Field\, St. Pete
CATEGORIES:Boat/Home/RV Show
END:VEVENT
BEGIN:VEVENT
DTSTART;VALUE=DATE:20190427
DTEND;VALUE=DATE:20190429
DTSTAMP:20260422T222147
CREATED:20190409T165601Z
LAST-MODIFIED:20190409T165601Z
UID:2687-1556323200-1556495999@www.eaglebeamlights.com
SUMMARY:Gun Show - Miami\, FL
DESCRIPTION:Florida Gun Shows – Gun Show – Miami\, FL \nSAT: 4/27/19:  9am – 5pm\nSUN: 4/28/19:  10am – 5pm
URL:https://www.eaglebeamlights.com/event/gun-show-miami-fl-3/
LOCATION:Miami-Dade County Fairgrounds
CATEGORIES:Gun Show
END:VEVENT
BEGIN:VEVENT
DTSTART;VALUE=DATE:20190420
DTEND;VALUE=DATE:20190422
DTSTAMP:20260422T222147
CREATED:20190409T165254Z
LAST-MODIFIED:20190409T165254Z
UID:2685-1555718400-1555891199@www.eaglebeamlights.com
SUMMARY:Gun Show - West Palm Beach\, FL
DESCRIPTION:Sports Show Specialists – Gun Show – West Palm Beach\, FL \nSAT:  4/20/19: 9am – 5pm\nSUN:  4/21/19: 10am – 4pm \n 
URL:https://www.eaglebeamlights.com/event/gun-show-west-palm-beach-fl-6/
LOCATION:South Florida Fairgrounds
CATEGORIES:Gun Show
END:VEVENT
BEGIN:VEVENT
DTSTART;VALUE=DATE:20190413
DTEND;VALUE=DATE:20190415
DTSTAMP:20260422T222147
CREATED:20190409T152908Z
LAST-MODIFIED:20190409T152908Z
UID:2683-1555113600-1555286399@www.eaglebeamlights.com
SUMMARY:Gun Show - Tampa\, FL
DESCRIPTION:Florida Gun Shows – Gun Show – Tampa\, FL \nSAT: 4/13/19:  9am – 5pm\nSUN: 4/14/19:  10am – 5pm
URL:https://www.eaglebeamlights.com/event/gun-show-tampa-fl-4/
LOCATION:Florida State Fairgrounds
CATEGORIES:Gun Show
END:VEVENT
BEGIN:VEVENT
DTSTART;VALUE=DATE:20190330
DTEND;VALUE=DATE:20190401
DTSTAMP:20260422T222147
CREATED:20190107T201952Z
LAST-MODIFIED:20190107T201952Z
UID:2602-1553904000-1554076799@www.eaglebeamlights.com
SUMMARY:Gun Show - Palmetto\, FL
DESCRIPTION:Florida Gun Shows – Gun Show – Palmetto\, FL \nSAT: 3/30/19:  9am – 5pm\nSUN: 3/31/19:  10am – 5pm
URL:https://www.eaglebeamlights.com/event/gun-show-palmetto-fl-4/
LOCATION:Bradenton Area Convention Center
CATEGORIES:Gun Show
END:VEVENT
BEGIN:VEVENT
DTSTART;VALUE=DATE:20190329
DTEND;VALUE=DATE:20190401
DTSTAMP:20260422T222147
CREATED:20190226T232228Z
LAST-MODIFIED:20190226T232228Z
UID:2655-1553817600-1554076799@www.eaglebeamlights.com
SUMMARY:Home Show - Savannah\, GA
DESCRIPTION:Savannah Home & Remodeling Show \nMAR 29 – MAR 31 \n10am – 6pm \n 
URL:https://www.eaglebeamlights.com/event/home-show-savannah-ga/
CATEGORIES:Boat/Home/RV Show
END:VEVENT
BEGIN:VEVENT
DTSTART;VALUE=DATE:20190323
DTEND;VALUE=DATE:20190325
DTSTAMP:20260422T222147
CREATED:20190107T201646Z
LAST-MODIFIED:20190107T201646Z
UID:2600-1553299200-1553471999@www.eaglebeamlights.com
SUMMARY:Gun Show - Orlando\, FL
DESCRIPTION:Florida Gun Shows – Gun Show – Orlando\, FL \nSAT: 3/23/19:  9am-5pm\nSUN: 3/24/19:  10am – 5pm
URL:https://www.eaglebeamlights.com/event/gun-show-orlando-fl-4/
LOCATION:Central Florida Fairgrounds
CATEGORIES:Gun Show
END:VEVENT
BEGIN:VEVENT
DTSTART;VALUE=DATE:20190316
DTEND;VALUE=DATE:20190318
DTSTAMP:20260422T222147
CREATED:20190107T201331Z
LAST-MODIFIED:20190107T201331Z
UID:2598-1552694400-1552867199@www.eaglebeamlights.com
SUMMARY:Gun Show - West Palm Beach\, FL
DESCRIPTION:Sports Show Specialists – Gun Show – West Palm Beach\, FL \nSAT: 3/16/19:  9am – 5pm\nSUN: 3/17/19:  10am – 4pm
URL:https://www.eaglebeamlights.com/event/gun-show-west-palm-beach-fl-5/
LOCATION:South Florida Fairgrounds
CATEGORIES:Gun Show
END:VEVENT
BEGIN:VEVENT
DTSTART;VALUE=DATE:20190315
DTEND;VALUE=DATE:20190318
DTSTAMP:20260422T222147
CREATED:20190226T232748Z
LAST-MODIFIED:20190226T232748Z
UID:2657-1552608000-1552867199@www.eaglebeamlights.com
SUMMARY:Home Show - Tampa\, FL
DESCRIPTION:Turner Home Shows – Home Show – Tampa\, FL \nFRI: 3/15/19:  10am – 6pm\nSAT: 3/16/19:  10am – 6pm\nSUN: 3/17/19: 10am – 5pm
URL:https://www.eaglebeamlights.com/event/home-show-tampa-fl-2/
LOCATION:Florida State Fairgrounds
CATEGORIES:Boat/Home/RV Show
END:VEVENT
BEGIN:VEVENT
DTSTART;VALUE=DATE:20190228
DTEND;VALUE=DATE:20190311
DTSTAMP:20260422T222147
CREATED:20190221T225100Z
LAST-MODIFIED:20190221T225824Z
UID:2644-1551312000-1552262399@www.eaglebeamlights.com
SUMMARY:Florida Strawberry Festival
DESCRIPTION:Florida Strawberry Festival – Plant City\, FL \nTHU 2/28/19 – SUN 3/10/19
URL:https://www.eaglebeamlights.com/event/florida-strawberry-festival/
LOCATION:Florida Strawberry Festival\, 303 N Lemon Street\, Plant City\, FL\, 33563
CATEGORIES:State Fair
END:VEVENT
BEGIN:VEVENT
DTSTART;VALUE=DATE:20190223
DTEND;VALUE=DATE:20190225
DTSTAMP:20260422T222147
CREATED:20181121T003511Z
LAST-MODIFIED:20181121T003511Z
UID:2530-1550880000-1551052799@www.eaglebeamlights.com
SUMMARY:Gun Show - Tampa\, FL
DESCRIPTION:Florida Gun Shows – Gun Show – Tampa\, FL \nSAT: 2/23/19:  9am – 5pm\nSUN: 2/24/19: 10am – 5pm
URL:https://www.eaglebeamlights.com/event/gun-show-tampa-fl-3/
LOCATION:Florida State Fairgrounds
CATEGORIES:Gun Show
END:VEVENT
BEGIN:VEVENT
DTSTART;VALUE=DATE:20190223
DTEND;VALUE=DATE:20190225
DTSTAMP:20260422T222147
CREATED:20181121T002835Z
LAST-MODIFIED:20181121T002835Z
UID:2528-1550880000-1551052799@www.eaglebeamlights.com
SUMMARY:Tiny Home Show - Tampa\, FL
DESCRIPTION:Great American Tiny Home Shows – Tiny Home Show – Tampa\, FL \nSAT: 2/23/19:  9am – 6pm\nSUN: 2/24/19:  9am – 5pm
URL:https://www.eaglebeamlights.com/event/tiny-home-show-tampa-fl/
LOCATION:Florida State Fairgrounds
CATEGORIES:Boat/Home/RV Show
END:VEVENT
END:VCALENDAR