BEGIN:VCALENDAR
VERSION:2.0
PRODID:-//Eagle Beam - ECPv6.15.17.1//NONSGML v1.0//EN
CALSCALE:GREGORIAN
METHOD:PUBLISH
X-WR-CALNAME:Eagle Beam
X-ORIGINAL-URL:https://www.eaglebeamlights.com
X-WR-CALDESC:Events for Eagle Beam
REFRESH-INTERVAL;VALUE=DURATION:PT1H
X-Robots-Tag:noindex
X-PUBLISHED-TTL:PT1H
BEGIN:VTIMEZONE
TZID:UTC
BEGIN:STANDARD
TZOFFSETFROM:+0000
TZOFFSETTO:+0000
TZNAME:UTC
DTSTART:20170101T000000
END:STANDARD
END:VTIMEZONE
BEGIN:VEVENT
DTSTART;VALUE=DATE:20180929
DTEND;VALUE=DATE:20180930
DTSTAMP:20260422T215456
CREATED:20180905T152741Z
LAST-MODIFIED:20180905T152826Z
UID:2327-1538179200-1538265599@www.eaglebeamlights.com
SUMMARY:Women's Expo - Tampa\, FL
DESCRIPTION:Tampa Bay Times – Women’s Expo – Tampa\, FL \nSAT: 9/25/18:  10am – 5pm
URL:https://www.eaglebeamlights.com/event/womens-expo-tampa-fl/
LOCATION:Florida State Fairgrounds
END:VEVENT
BEGIN:VEVENT
DTSTART;VALUE=DATE:20180929
DTEND;VALUE=DATE:20181001
DTSTAMP:20260422T215456
CREATED:20180905T152416Z
LAST-MODIFIED:20180911T193658Z
UID:2320-1538179200-1538351999@www.eaglebeamlights.com
SUMMARY:Gun Show - Valdosta\, GA
DESCRIPTION:Eastman Gun Shows – Gun Show – Valdosta\, GA \nSAT: 9/29/18:  9am – 5pm\nSUN: 9/30/18:  10am – 5pm
URL:https://www.eaglebeamlights.com/event/gun-show-valdosta-ga/
LOCATION:James Rainwater Convention Center
CATEGORIES:Gun Show
END:VEVENT
BEGIN:VEVENT
DTSTART;VALUE=DATE:20180921
DTEND;VALUE=DATE:20180924
DTSTAMP:20260422T215456
CREATED:20180905T151545Z
LAST-MODIFIED:20180905T151954Z
UID:2311-1537488000-1537747199@www.eaglebeamlights.com
SUMMARY:Boat Show - Tampa\, FL
DESCRIPTION:Tampa Bay Times – Boat Show – Tampa\, FL \nFRI: 9/7/18:  10am – 6pm\nSAT: 9/8/18:  10am – 6pm\nSUN: 9/9/18:  10am – 5pm
URL:https://www.eaglebeamlights.com/event/tampa-bay-times-boat-show-tampa-fl/
LOCATION:Florida State Fairgrounds
END:VEVENT
BEGIN:VEVENT
DTSTART;VALUE=DATE:20180908
DTEND;VALUE=DATE:20180910
DTSTAMP:20260422T215456
CREATED:20180905T150032Z
LAST-MODIFIED:20180917T152226Z
UID:2303-1536364800-1536537599@www.eaglebeamlights.com
SUMMARY:Gun Show - Palmetto\, FL
DESCRIPTION: Florida Gun Shows – Gun Show – Palmetto Gun Show \nSAT: 9/8/18: 9am – 5pm\nSUN: 9/9/18: 10am – 5pm
URL:https://www.eaglebeamlights.com/event/gun-show-florida-gun-shows-palmetto-fl/
LOCATION:Bradenton Area Convention Center
END:VEVENT
BEGIN:VEVENT
DTSTART;VALUE=DATE:20180908
DTEND;VALUE=DATE:20180910
DTSTAMP:20260422T215456
CREATED:20180905T150945Z
LAST-MODIFIED:20180905T152519Z
UID:2308-1536364800-1536537599@www.eaglebeamlights.com
SUMMARY:Gun Show - West Palm Beach\, FL
DESCRIPTION:Sports Show Specialists – Gun Show – West Palm Beach\, FL \nSAT: 9/8/18: 9am – 5pm\nSUN: 9/9/18: 10am – 4pm
URL:https://www.eaglebeamlights.com/event/sports-show-specialists-west-palm-beach-fl/
LOCATION:South Florida Fairgrounds
END:VEVENT
BEGIN:VEVENT
DTSTART;VALUE=DATE:20180725
DTEND;VALUE=DATE:20180806
DTSTAMP:20260422T215456
CREATED:20180725T165708Z
LAST-MODIFIED:20180725T165708Z
UID:95-1532476800-1533513599@www.eaglebeamlights.com
SUMMARY:Ohio State Fair
DESCRIPTION:
URL:https://www.eaglebeamlights.com/event/ohio-state-fair/
END:VEVENT
BEGIN:VEVENT
DTSTART;VALUE=DATE:20180721
DTEND;VALUE=DATE:20180723
DTSTAMP:20260422T215456
CREATED:20180725T165817Z
LAST-MODIFIED:20180725T165817Z
UID:97-1532131200-1532303999@www.eaglebeamlights.com
SUMMARY:Florida Gun Shows - Miami
DESCRIPTION:
URL:https://www.eaglebeamlights.com/event/florida-gun-shows-miami/
END:VEVENT
END:VCALENDAR