BEGIN:VCALENDAR
VERSION:2.0
PRODID:-//Eagle Beam - ECPv6.15.17.1//NONSGML v1.0//EN
CALSCALE:GREGORIAN
METHOD:PUBLISH
X-WR-CALNAME:Eagle Beam
X-ORIGINAL-URL:https://www.eaglebeamlights.com
X-WR-CALDESC:Events for Eagle Beam
REFRESH-INTERVAL;VALUE=DURATION:PT1H
X-Robots-Tag:noindex
X-PUBLISHED-TTL:PT1H
BEGIN:VTIMEZONE
TZID:America/New_York
BEGIN:DAYLIGHT
TZOFFSETFROM:-0500
TZOFFSETTO:-0400
TZNAME:EDT
DTSTART:20230312T070000
END:DAYLIGHT
BEGIN:STANDARD
TZOFFSETFROM:-0400
TZOFFSETTO:-0500
TZNAME:EST
DTSTART:20231105T060000
END:STANDARD
BEGIN:DAYLIGHT
TZOFFSETFROM:-0500
TZOFFSETTO:-0400
TZNAME:EDT
DTSTART:20240310T070000
END:DAYLIGHT
BEGIN:STANDARD
TZOFFSETFROM:-0400
TZOFFSETTO:-0500
TZNAME:EST
DTSTART:20241103T060000
END:STANDARD
BEGIN:DAYLIGHT
TZOFFSETFROM:-0500
TZOFFSETTO:-0400
TZNAME:EDT
DTSTART:20250309T070000
END:DAYLIGHT
BEGIN:STANDARD
TZOFFSETFROM:-0400
TZOFFSETTO:-0500
TZNAME:EST
DTSTART:20251102T060000
END:STANDARD
END:VTIMEZONE
BEGIN:VTIMEZONE
TZID:UTC
BEGIN:STANDARD
TZOFFSETFROM:+0000
TZOFFSETTO:+0000
TZNAME:UTC
DTSTART:20180101T000000
END:STANDARD
END:VTIMEZONE
BEGIN:VEVENT
DTSTART;VALUE=DATE:20240208
DTEND;VALUE=DATE:20240220
DTSTAMP:20260422T225804
CREATED:20240123T165342Z
LAST-MODIFIED:20250312T152126Z
UID:3624-1707350400-1708387199@www.eaglebeamlights.com
SUMMARY:Florida State Fair (Tampa)
DESCRIPTION:
URL:https://www.eaglebeamlights.com/event/florida-state-fair-tampa/
LOCATION:Florida State Fairgrounds
END:VEVENT
BEGIN:VEVENT
DTSTART;TZID=UTC:20231130T100000
DTEND;TZID=UTC:20231202T200000
DTSTAMP:20260422T225804
CREATED:20231013T191727Z
LAST-MODIFIED:20231013T191727Z
UID:3570-1701338400-1701547200@www.eaglebeamlights.com
SUMMARY:Greenville Holiday Fair
DESCRIPTION:
URL:https://www.eaglebeamlights.com/event/greenville-holiday-fair/
LOCATION:Greenville Convention Center\, One Exposition Drive\, Greenville\, SC\, 29607\, United States
CATEGORIES:Holiday Show
END:VEVENT
BEGIN:VEVENT
DTSTART;TZID=UTC:20231111T090000
DTEND;TZID=UTC:20231112T170000
DTSTAMP:20260422T225804
CREATED:20231013T190834Z
LAST-MODIFIED:20231013T190834Z
UID:3568-1699693200-1699808400@www.eaglebeamlights.com
SUMMARY:Perry Gun Show
DESCRIPTION:
URL:https://www.eaglebeamlights.com/event/perry-gun-show/
LOCATION:Georgia National Fairgrounds
CATEGORIES:Gun Show
END:VEVENT
BEGIN:VEVENT
DTSTART;VALUE=DATE:20231103
DTEND;VALUE=DATE:20231106
DTSTAMP:20260422T225804
CREATED:20231013T190522Z
LAST-MODIFIED:20231013T190522Z
UID:3564-1698969600-1699228799@www.eaglebeamlights.com
SUMMARY:Atlanta Holiday Boutique
DESCRIPTION:
URL:https://www.eaglebeamlights.com/event/atlanta-holiday-boutique/
LOCATION:Gas South Convention Center\, Duluth\, GA\, United States
CATEGORIES:Holiday Show
END:VEVENT
BEGIN:VEVENT
DTSTART;TZID=UTC:20231021T100000
DTEND;TZID=UTC:20231022T170000
DTSTAMP:20260422T225804
CREATED:20231013T153836Z
LAST-MODIFIED:20231013T153836Z
UID:3561-1697882400-1697994000@www.eaglebeamlights.com
SUMMARY:Savannah Gun Show
DESCRIPTION:
URL:https://www.eaglebeamlights.com/event/savannah-gun-show/
LOCATION:Savannah Convention Center
CATEGORIES:Gun Show
END:VEVENT
BEGIN:VEVENT
DTSTART;VALUE=DATE:20231017
DTEND;VALUE=DATE:20231020
DTSTAMP:20260422T225804
CREATED:20231012T145442Z
LAST-MODIFIED:20231012T145708Z
UID:3555-1697500800-1697759999@www.eaglebeamlights.com
SUMMARY:Sunbelt Ag Expo - Moultrie\, GA
DESCRIPTION:
URL:https://www.eaglebeamlights.com/event/sunbelt-ag-expo-moultrie-ga/
CATEGORIES:Expo
END:VEVENT
BEGIN:VEVENT
DTSTART;VALUE=DATE:20200404
DTEND;VALUE=DATE:20200406
DTSTAMP:20260422T225804
CREATED:20200113T033141Z
LAST-MODIFIED:20200113T033141Z
UID:3108-1585958400-1586131199@www.eaglebeamlights.com
SUMMARY:Gun Show - Ft Myers\, FL
DESCRIPTION:Florida Gun Shows – Ft Myers \nSAT  4/4/20  9am – 5pm\nSUN  4/5/20  10am – 5pm
URL:https://www.eaglebeamlights.com/event/gun-show-ft-myers-fl-8/
LOCATION:Lee Civic Center
CATEGORIES:Gun Show
END:VEVENT
BEGIN:VEVENT
DTSTART;VALUE=DATE:20200328
DTEND;VALUE=DATE:20200330
DTSTAMP:20260422T225804
CREATED:20200113T032913Z
LAST-MODIFIED:20200113T032951Z
UID:3105-1585353600-1585526399@www.eaglebeamlights.com
SUMMARY:Gun Show - Palmetto\, FL
DESCRIPTION:Florida Gun Shows – Palmetto \nSAT 3/28  9am – 5pm\nSUN 3/29  10am – 5pm
URL:https://www.eaglebeamlights.com/event/gun-show-palmetto-fl-9/
LOCATION:Bradenton Area Convention Center
CATEGORIES:Gun Show
END:VEVENT
BEGIN:VEVENT
DTSTART;VALUE=DATE:20200227
DTEND;VALUE=DATE:20200309
DTSTAMP:20260422T225805
CREATED:20200113T032541Z
LAST-MODIFIED:20200113T032541Z
UID:3103-1582761600-1583711999@www.eaglebeamlights.com
SUMMARY:Florida Strawberry Festival
DESCRIPTION:Florida Strawberry Festival\nPlant City\, Fl \nFEB 27th – MAR 8th
URL:https://www.eaglebeamlights.com/event/florida-strawberry-festival-2/
LOCATION:Florida Strawberry Festival\, 303 N Lemon Street\, Plant City\, FL\, 33563
CATEGORIES:State Fair
END:VEVENT
BEGIN:VEVENT
DTSTART;VALUE=DATE:20200222
DTEND;VALUE=DATE:20200224
DTSTAMP:20260422T225805
CREATED:20200104T024749Z
LAST-MODIFIED:20200104T024749Z
UID:3082-1582329600-1582502399@www.eaglebeamlights.com
SUMMARY:Gun Show - Tampa\, FL
DESCRIPTION:Gun Show – Florida Gun Shows\nSAT: 2/22/20  9am – 5pm\nSUN: 2/23/20 10am – 5pm\nTampa\, FL
URL:https://www.eaglebeamlights.com/event/gun-show-tampa-fl-8/
LOCATION:Florida State Fairgrounds
CATEGORIES:Gun Show
END:VEVENT
BEGIN:VEVENT
DTSTART;VALUE=DATE:20200206
DTEND;VALUE=DATE:20200218
DTSTAMP:20260422T225805
CREATED:20200104T024301Z
LAST-MODIFIED:20200104T024301Z
UID:3078-1580947200-1581983999@www.eaglebeamlights.com
SUMMARY:Florida State Fair - Tampa\, FL
DESCRIPTION:Florida State Fair\nFeb 6th – 17th\nTampa\, FL
URL:https://www.eaglebeamlights.com/event/florida-state-fair-tampa-fl-2/
LOCATION:Florida State Fairgrounds
CATEGORIES:State Fair
END:VEVENT
BEGIN:VEVENT
DTSTART;VALUE=DATE:20200201
DTEND;VALUE=DATE:20200203
DTSTAMP:20260422T225805
CREATED:20200104T024556Z
LAST-MODIFIED:20200104T024556Z
UID:3080-1580515200-1580687999@www.eaglebeamlights.com
SUMMARY:Gun Show - Ft Myers\, FL
DESCRIPTION:Gun Show – Florida Gun Shows\nSAT:  2/1/20  9am – 5pm\nSUN:  2/2/20 10am – 5pm\nFt Myers\, FL
URL:https://www.eaglebeamlights.com/event/gun-show-ft-myers-fl-7/
LOCATION:Lee Civic Center
CATEGORIES:Gun Show
END:VEVENT
BEGIN:VEVENT
DTSTART;VALUE=DATE:20200125
DTEND;VALUE=DATE:20200127
DTSTAMP:20260422T225805
CREATED:20200104T022612Z
LAST-MODIFIED:20200104T022612Z
UID:3076-1579910400-1580083199@www.eaglebeamlights.com
SUMMARY:Gun Show - Palmetto\, FL
DESCRIPTION:Florida Gun Shows – Palmetto\nSAT 1/25\nSUN 1/26\nPalmetto\, FL
URL:https://www.eaglebeamlights.com/event/gun-show-palmetto-fl-8/
CATEGORIES:Gun Show
END:VEVENT
BEGIN:VEVENT
DTSTART;VALUE=DATE:20200113
DTEND;VALUE=DATE:20200120
DTSTAMP:20260422T225805
CREATED:20200104T020341Z
LAST-MODIFIED:20200104T021612Z
UID:3066-1578873600-1579478399@www.eaglebeamlights.com
SUMMARY:RV Show - Tampa\, FL
DESCRIPTION:RV SUPERSHOW\nJan 13th – Jan 19th\nTampa\, FL
URL:https://www.eaglebeamlights.com/event/3066/
LOCATION:Florida State Fairgrounds
CATEGORIES:Boat/Home/RV Show
END:VEVENT
BEGIN:VEVENT
DTSTART;VALUE=DATE:20200111
DTEND;VALUE=DATE:20200127
DTSTAMP:20260422T225805
CREATED:20200104T021818Z
LAST-MODIFIED:20200104T022124Z
UID:3071-1578700800-1580083199@www.eaglebeamlights.com
SUMMARY:National Western Stock Show - Denver\, CO
DESCRIPTION:National Western Stock Show\nJan 11th – 26th\nDenver\, CO
URL:https://www.eaglebeamlights.com/event/denver-stock-show-rodeo/
CATEGORIES:State Fair
END:VEVENT
BEGIN:VEVENT
DTSTART;VALUE=DATE:20191026
DTEND;VALUE=DATE:20191028
DTSTAMP:20260422T225805
CREATED:20190702T173701Z
LAST-MODIFIED:20190702T173701Z
UID:2857-1572048000-1572220799@www.eaglebeamlights.com
SUMMARY:Gun Show - Palmetto\, FL
DESCRIPTION:Florida Gun Shows – Gun Show – Palmetto\, FL \nSAT: 10/26/19:  9am – 5pm\nSUN: 10/27/19:  10am – pm
URL:https://www.eaglebeamlights.com/event/gun-show-palmetto-fl-7/
LOCATION:Bradenton Area Convention Center
CATEGORIES:Gun Show
END:VEVENT
BEGIN:VEVENT
DTSTART;VALUE=DATE:20191025
DTEND;VALUE=DATE:20191028
DTSTAMP:20260422T225805
CREATED:20190702T224843Z
LAST-MODIFIED:20190702T224843Z
UID:2866-1571961600-1572220799@www.eaglebeamlights.com
SUMMARY:Home Show - St. Petersburg
DESCRIPTION:Tampa Bay Times – St. Petersburg\, FL \nFRI: 10/25/19:  10am – 6pm\nSAT: 10/26/19:  10am – 6pm\nSUN: 10/27/19:  10am – 5pm
URL:https://www.eaglebeamlights.com/event/home-show-st-petersburg/
LOCATION:Tropicana Field\, St. Pete
CATEGORIES:Boat/Home/RV Show
END:VEVENT
BEGIN:VEVENT
DTSTART;VALUE=DATE:20191019
DTEND;VALUE=DATE:20191021
DTSTAMP:20260422T225805
CREATED:20190702T173528Z
LAST-MODIFIED:20190702T173528Z
UID:2855-1571443200-1571615999@www.eaglebeamlights.com
SUMMARY:Gun Show - Tampa\, FL
DESCRIPTION:Florida Gun Shows – Gun Show – Orlando\, FL \nSAT: 10/19/19:  9am – 5pm\nSUN: 10/20/19:  10am – 5pm
URL:https://www.eaglebeamlights.com/event/gun-show-tampa-fl-7/
LOCATION:Florida State Fairgrounds
CATEGORIES:Gun Show
END:VEVENT
BEGIN:VEVENT
DTSTART;VALUE=DATE:20191015
DTEND;VALUE=DATE:20191018
DTSTAMP:20260422T225805
CREATED:20190702T222831Z
LAST-MODIFIED:20190702T222831Z
UID:2864-1571097600-1571356799@www.eaglebeamlights.com
SUMMARY:Agricultural Expo - Moultrie\, GA
DESCRIPTION:Sunbelt AG Expo – Moultrie\, GA \nTUE: 10/15/19:  8:30am – 5pm\nWED: 10/16/19:  8:30am – 5pm\nTHU: 10/17/19:  8:30am – 4pm
URL:https://www.eaglebeamlights.com/event/agricultural-expo-moultrie-ga/
LOCATION:Sunbelt AG Expo\, 290-G Harper Blvd.\, Moultrie\, GA\, 31788
CATEGORIES:Expo
END:VEVENT
BEGIN:VEVENT
DTSTART;VALUE=DATE:20191012
DTEND;VALUE=DATE:20191014
DTSTAMP:20260422T225805
CREATED:20190702T172815Z
LAST-MODIFIED:20190702T172815Z
UID:2853-1570838400-1571011199@www.eaglebeamlights.com
SUMMARY:Gun Show - Orlando\, FL
DESCRIPTION:Florida Gun Shows – Gun Show – Orlando\, FL \nSAT: 10/12/19:  9am – 5pm\nSUN: 10/13/19:  10am – 5pm
URL:https://www.eaglebeamlights.com/event/gun-show-orlando-fl-9/
LOCATION:Central Florida Fairgrounds
CATEGORIES:Gun Show
END:VEVENT
BEGIN:VEVENT
DTSTART;VALUE=DATE:20191009
DTEND;VALUE=DATE:20191021
DTSTAMP:20260422T225805
CREATED:20190702T174124Z
LAST-MODIFIED:20190702T174124Z
UID:2859-1570579200-1571615999@www.eaglebeamlights.com
SUMMARY:South Carolina State Fair
DESCRIPTION:South Carolina State Fair \nOCT 9 – OCT 20
URL:https://www.eaglebeamlights.com/event/south-carolina-state-fair/
LOCATION:South Carolina State Fairgrounds
CATEGORIES:State Fair
END:VEVENT
BEGIN:VEVENT
DTSTART;VALUE=DATE:20191005
DTEND;VALUE=DATE:20191007
DTSTAMP:20260422T225805
CREATED:20190702T172322Z
LAST-MODIFIED:20190702T172322Z
UID:2851-1570233600-1570406399@www.eaglebeamlights.com
SUMMARY:Gun Show - Ft. Myers\, FL
DESCRIPTION:Florida Gun Shows – Gun Show – Ft. Myers\, FL \nSAT: 10/5/19:  9am – 5pm\nSUN: 10/5/19:  10am – 6pm
URL:https://www.eaglebeamlights.com/event/gun-show-ft-myers-fl-6/
LOCATION:Lee Civic Center
CATEGORIES:Gun Show
END:VEVENT
BEGIN:VEVENT
DTSTART;VALUE=DATE:20190926
DTEND;VALUE=DATE:20191007
DTSTAMP:20260422T225805
CREATED:20190702T170757Z
LAST-MODIFIED:20190702T171051Z
UID:2847-1569456000-1570406399@www.eaglebeamlights.com
SUMMARY:Virgina State Fair
DESCRIPTION:State Fair of Virginia \nSEP 26 – OCT 6
URL:https://www.eaglebeamlights.com/event/virgina-state-fair/
LOCATION:State Fair of Virginia\, Meadow Event Park\, Doswell\, VA\, 23047
CATEGORIES:State Fair
END:VEVENT
BEGIN:VEVENT
DTSTART;VALUE=DATE:20190920
DTEND;VALUE=DATE:20190923
DTSTAMP:20260422T225805
CREATED:20190702T221812Z
LAST-MODIFIED:20190702T221812Z
UID:2861-1568937600-1569196799@www.eaglebeamlights.com
SUMMARY:Boat Show - Tampa\, FL
DESCRIPTION:Tampa Bay Times – Boat Show – Tampa\, FL \nFRI: 9/20/19:  10am – 6pm\nSAT: 9/21/19:  10am – 6pm\nSUN: 9/22/19:  10am – 5pm
URL:https://www.eaglebeamlights.com/event/boat-show-tampa-fl/
LOCATION:Florida State Fairgrounds
CATEGORIES:Boat/Home/RV Show
END:VEVENT
BEGIN:VEVENT
DTSTART;VALUE=DATE:20190914
DTEND;VALUE=DATE:20190916
DTSTAMP:20260422T225805
CREATED:20190702T170607Z
LAST-MODIFIED:20190702T170607Z
UID:2845-1568419200-1568591999@www.eaglebeamlights.com
SUMMARY:Gun Show - Palmetto\, FL
DESCRIPTION:Florida Gun Shows – Gun Show – Palmetto\, FL \nSAT: 9/14/19:  9am – 5pm\nSUN: 9/15/19:  10am – 5pm
URL:https://www.eaglebeamlights.com/event/gun-show-palmetto-fl-6/
LOCATION:Bradenton Area Convention Center
CATEGORIES:Gun Show
END:VEVENT
BEGIN:VEVENT
DTSTART;VALUE=DATE:20190831
DTEND;VALUE=DATE:20190902
DTSTAMP:20260422T225805
CREATED:20190515T134534Z
LAST-MODIFIED:20190515T134534Z
UID:2793-1567209600-1567382399@www.eaglebeamlights.com
SUMMARY:Gun Show - Miami\, FL
DESCRIPTION:Florida Gun Shows – Gun Show – Miami\, FL \nSAT: 8/31/19:  9am – 5pm\nSUN: 9/1/19:  10am – 5pm
URL:https://www.eaglebeamlights.com/event/gun-show-miami-fl-6/
LOCATION:Miami-Dade County Fairgrounds
CATEGORIES:Gun Show
END:VEVENT
BEGIN:VEVENT
DTSTART;VALUE=DATE:20190824
DTEND;VALUE=DATE:20190826
DTSTAMP:20260422T225805
CREATED:20190515T134300Z
LAST-MODIFIED:20190515T134300Z
UID:2791-1566604800-1566777599@www.eaglebeamlights.com
SUMMARY:Gun Show - Tampa\, FL
DESCRIPTION:Florida Gun Shows – Gun Show – Tampa\, FL \nSAT: 8/24/19:  9am – 5pm\nSUN: 8/25/19:  10am – 5pm
URL:https://www.eaglebeamlights.com/event/gun-show-tampa-fl-6/
LOCATION:Florida State Fairgrounds
CATEGORIES:Gun Show
END:VEVENT
BEGIN:VEVENT
DTSTART;VALUE=DATE:20190821
DTEND;VALUE=DATE:20190903
DTSTAMP:20260422T225805
CREATED:20190702T155939Z
LAST-MODIFIED:20190702T155939Z
UID:2843-1566345600-1567468799@www.eaglebeamlights.com
SUMMARY:New York State Fair
DESCRIPTION:New York State Fair \nAUG 21 – SEP 2
URL:https://www.eaglebeamlights.com/event/new-york-state-fair/
LOCATION:New York State Fairgrounds\, 581 State Fair Blvd\, Syracuse\, NY\, 13209
CATEGORIES:State Fair
END:VEVENT
BEGIN:VEVENT
DTSTART;VALUE=DATE:20190817
DTEND;VALUE=DATE:20190819
DTSTAMP:20260422T225805
CREATED:20190515T134114Z
LAST-MODIFIED:20190515T134114Z
UID:2789-1566000000-1566172799@www.eaglebeamlights.com
SUMMARY:Gun Show - Orlando\, FL
DESCRIPTION:Florida Gun Shows – Orlando\, FL \nSAT: 8/17/19:  9am – 5pm\nSUN: 8/18/19:  10am – 5pm
URL:https://www.eaglebeamlights.com/event/gun-show-orlando-fl-8/
LOCATION:Central Florida Fairgrounds
CATEGORIES:Gun Show
END:VEVENT
BEGIN:VEVENT
DTSTART;VALUE=DATE:20190817
DTEND;VALUE=DATE:20190819
DTSTAMP:20260422T225805
CREATED:20190514T164502Z
LAST-MODIFIED:20190514T164502Z
UID:2782-1566000000-1566172799@www.eaglebeamlights.com
SUMMARY:Gun Show - Orlando\, FL
DESCRIPTION:Florida Gun Shows – Gun Show – Orlando\, FL \nSAT: 8/17/19:  9am – 5pm\nSUN: 8/18/19: 10am – 5pm
URL:https://www.eaglebeamlights.com/event/gun-show-orlando-fl-7/
LOCATION:Central Florida Fairgrounds
CATEGORIES:Gun Show
END:VEVENT
END:VCALENDAR