BEGIN:VCALENDAR
VERSION:2.0
PRODID:-//Eagle Beam - ECPv6.15.17.1//NONSGML v1.0//EN
CALSCALE:GREGORIAN
METHOD:PUBLISH
X-WR-CALNAME:Eagle Beam
X-ORIGINAL-URL:https://www.eaglebeamlights.com
X-WR-CALDESC:Events for Eagle Beam
REFRESH-INTERVAL;VALUE=DURATION:PT1H
X-Robots-Tag:noindex
X-PUBLISHED-TTL:PT1H
BEGIN:VTIMEZONE
TZID:UTC
BEGIN:STANDARD
TZOFFSETFROM:+0000
TZOFFSETTO:+0000
TZNAME:UTC
DTSTART:20170101T000000
END:STANDARD
END:VTIMEZONE
BEGIN:VEVENT
DTSTART;VALUE=DATE:20181010
DTEND;VALUE=DATE:20181022
DTSTAMP:20260422T063555
CREATED:20180917T160859Z
LAST-MODIFIED:20180917T160859Z
UID:2388-1539129600-1540166399@www.eaglebeamlights.com
SUMMARY:South Carolina State Fair - Columbia\, SC
DESCRIPTION:South Carolina State Fair – Columbia\, SC\n\nWED: 10/10/18: – SUN: 10/21/18
URL:https://www.eaglebeamlights.com/event/south-carolina-state-fair-columbia-sc/
LOCATION:South Carolina State Fairgrounds
CATEGORIES:State Fair
END:VEVENT
END:VCALENDAR