BEGIN:VCALENDAR
VERSION:2.0
PRODID:-//Eagle Beam - ECPv6.15.17.1//NONSGML v1.0//EN
CALSCALE:GREGORIAN
METHOD:PUBLISH
X-ORIGINAL-URL:https://www.eaglebeamlights.com
X-WR-CALDESC:Events for Eagle Beam
REFRESH-INTERVAL;VALUE=DURATION:PT1H
X-Robots-Tag:noindex
X-PUBLISHED-TTL:PT1H
BEGIN:VTIMEZONE
TZID:UTC
BEGIN:STANDARD
TZOFFSETFROM:+0000
TZOFFSETTO:+0000
TZNAME:UTC
DTSTART:20240101T000000
END:STANDARD
END:VTIMEZONE
BEGIN:VEVENT
DTSTART;VALUE=DATE:20251002
DTEND;VALUE=DATE:20251013
DTSTAMP:20260422T115659
CREATED:20250324T173904Z
LAST-MODIFIED:20250325T142627Z
UID:4076-1759363200-1760313599@www.eaglebeamlights.com
SUMMARY:Georgia National Fair
DESCRIPTION:
URL:https://www.eaglebeamlights.com/event/georgia-national-fair/
LOCATION:Georgia National Fairgrounds & Agricenter\, 401 Larry Walker Pkwy\, Perry\, GA\, 31069-1367\, United States
CATEGORIES:State Fair
END:VEVENT
END:VCALENDAR