BEGIN:VCALENDAR
VERSION:2.0
PRODID:-//Eagle Beam - ECPv6.15.17.1//NONSGML v1.0//EN
CALSCALE:GREGORIAN
METHOD:PUBLISH
X-WR-CALNAME:Eagle Beam
X-ORIGINAL-URL:https://www.eaglebeamlights.com
X-WR-CALDESC:Events for Eagle Beam
REFRESH-INTERVAL;VALUE=DURATION:PT1H
X-Robots-Tag:noindex
X-PUBLISHED-TTL:PT1H
BEGIN:VTIMEZONE
TZID:UTC
BEGIN:STANDARD
TZOFFSETFROM:+0000
TZOFFSETTO:+0000
TZNAME:UTC
DTSTART:20170101T000000
END:STANDARD
END:VTIMEZONE
BEGIN:VEVENT
DTSTART;VALUE=DATE:20231017
DTEND;VALUE=DATE:20231020
DTSTAMP:20260421T222830
CREATED:20231012T145442Z
LAST-MODIFIED:20231012T145708Z
UID:3555-1697500800-1697759999@www.eaglebeamlights.com
SUMMARY:Sunbelt Ag Expo - Moultrie\, GA
DESCRIPTION:
URL:https://www.eaglebeamlights.com/event/sunbelt-ag-expo-moultrie-ga/
CATEGORIES:Expo
END:VEVENT
BEGIN:VEVENT
DTSTART;VALUE=DATE:20191015
DTEND;VALUE=DATE:20191018
DTSTAMP:20260421T222830
CREATED:20190702T222831Z
LAST-MODIFIED:20190702T222831Z
UID:2864-1571097600-1571356799@www.eaglebeamlights.com
SUMMARY:Agricultural Expo - Moultrie\, GA
DESCRIPTION:Sunbelt AG Expo – Moultrie\, GA \nTUE: 10/15/19:  8:30am – 5pm\nWED: 10/16/19:  8:30am – 5pm\nTHU: 10/17/19:  8:30am – 4pm
URL:https://www.eaglebeamlights.com/event/agricultural-expo-moultrie-ga/
LOCATION:Sunbelt AG Expo\, 290-G Harper Blvd.\, Moultrie\, GA\, 31788
CATEGORIES:Expo
END:VEVENT
BEGIN:VEVENT
DTSTART;VALUE=DATE:20181117
DTEND;VALUE=DATE:20181119
DTSTAMP:20260421T222830
CREATED:20181003T163859Z
LAST-MODIFIED:20181003T164015Z
UID:2450-1542412800-1542585599@www.eaglebeamlights.com
SUMMARY:Holiday Show - St Petersburg\, FL
DESCRIPTION:Tampa Bay Times – Holiday Market – St Petersburg\, FL \nSAT: 11/17/18:  10am – 5pm\nSUN: 11/18/18:  10am – 5pm
URL:https://www.eaglebeamlights.com/event/holiday-show-st-petersburg-fl/
LOCATION:The Coliseum\, St. Pete
CATEGORIES:Expo
END:VEVENT
BEGIN:VEVENT
DTSTART;VALUE=DATE:20181116
DTEND;VALUE=DATE:20181119
DTSTAMP:20260421T222830
CREATED:20181003T162508Z
LAST-MODIFIED:20181003T162759Z
UID:2444-1542326400-1542585599@www.eaglebeamlights.com
SUMMARY:Waterfest/Block Party - Englewood\, FL
DESCRIPTION:Waterfest Inc. – Race Event/Block Party – Englewood\, FL \nFRI: 11/16/18:  4pm – 10pm\nSAT: 11/17/18:  9am – 6pm\nSUN: 11/18/18:  9am – 6pm
URL:https://www.eaglebeamlights.com/event/waterfest-block-party-englewood-fl/
LOCATION:Englewood Beach/Dearborn St.
CATEGORIES:Expo
END:VEVENT
BEGIN:VEVENT
DTSTART;VALUE=DATE:20181016
DTEND;VALUE=DATE:20181019
DTSTAMP:20260421T222830
CREATED:20180917T163608Z
LAST-MODIFIED:20180917T163608Z
UID:2396-1539648000-1539907199@www.eaglebeamlights.com
SUMMARY:Agriculture Expo - Moultrie\, GA
DESCRIPTION:Sunbelt Expositions – Ag Expo – Moultrie\, GA \nTUE: 10/16/18:  9am – 5pm\nWED: 10/17/18:  9am – 5pm\nTHU: 10/18/18:  9am – 5pm
URL:https://www.eaglebeamlights.com/event/agriculture-expo-moultrie-ga/
CATEGORIES:Expo
END:VEVENT
END:VCALENDAR