BEGIN:VCALENDAR
VERSION:2.0
PRODID:-//Eagle Beam - ECPv6.15.17.1//NONSGML v1.0//EN
CALSCALE:GREGORIAN
METHOD:PUBLISH
X-WR-CALNAME:Eagle Beam
X-ORIGINAL-URL:https://www.eaglebeamlights.com
X-WR-CALDESC:Events for Eagle Beam
REFRESH-INTERVAL;VALUE=DURATION:PT1H
X-Robots-Tag:noindex
X-PUBLISHED-TTL:PT1H
BEGIN:VTIMEZONE
TZID:UTC
BEGIN:STANDARD
TZOFFSETFROM:+0000
TZOFFSETTO:+0000
TZNAME:UTC
DTSTART:20170101T000000
END:STANDARD
END:VTIMEZONE
BEGIN:VEVENT
DTSTART;VALUE=DATE:20181102
DTEND;VALUE=DATE:20181105
DTSTAMP:20260422T071312
CREATED:20181003T155948Z
LAST-MODIFIED:20181003T160453Z
UID:2430-1541116800-1541375999@www.eaglebeamlights.com
SUMMARY:Home Show - Tampa\, FL
DESCRIPTION:Tampa Bay Times – Home Show – Tampa\, FL \nFRI: 11/2/18:  10am – 6pm\nSAT: 11/3/18:  10am – 6pm\nSUN: 11/4/18:  10am – 5pm
URL:https://www.eaglebeamlights.com/event/home-show-tampa-fl/
LOCATION:Tropicana Field\, St. Pete
CATEGORIES:Boat/Home/RV Show
END:VEVENT
END:VCALENDAR