BEGIN:VCALENDAR
VERSION:2.0
PRODID:-//Eagle Beam - ECPv6.15.17.1//NONSGML v1.0//EN
CALSCALE:GREGORIAN
METHOD:PUBLISH
X-WR-CALNAME:Eagle Beam
X-ORIGINAL-URL:https://www.eaglebeamlights.com
X-WR-CALDESC:Events for Eagle Beam
REFRESH-INTERVAL;VALUE=DURATION:PT1H
X-Robots-Tag:noindex
X-PUBLISHED-TTL:PT1H
BEGIN:VTIMEZONE
TZID:UTC
BEGIN:STANDARD
TZOFFSETFROM:+0000
TZOFFSETTO:+0000
TZNAME:UTC
DTSTART:20240101T000000
END:STANDARD
END:VTIMEZONE
BEGIN:VEVENT
DTSTART;VALUE=DATE:20250912
DTEND;VALUE=DATE:20250929
DTSTAMP:20260422T082823
CREATED:20250324T173611Z
LAST-MODIFIED:20250325T142655Z
UID:4073-1757635200-1759103999@www.eaglebeamlights.com
SUMMARY:The Big E
DESCRIPTION:
URL:https://www.eaglebeamlights.com/event/the-big-e/
LOCATION:Eastern States Exposition\, 1305 Memorial Ave.\, West Springfield\, MA\, 01089\, United States
CATEGORIES:State Fair
END:VEVENT
END:VCALENDAR