BEGIN:VCALENDAR
VERSION:2.0
PRODID:-//Eagle Beam - ECPv6.15.17.1//NONSGML v1.0//EN
CALSCALE:GREGORIAN
METHOD:PUBLISH
X-WR-CALNAME:Eagle Beam
X-ORIGINAL-URL:https://www.eaglebeamlights.com
X-WR-CALDESC:Events for Eagle Beam
REFRESH-INTERVAL;VALUE=DURATION:PT1H
X-Robots-Tag:noindex
X-PUBLISHED-TTL:PT1H
BEGIN:VTIMEZONE
TZID:UTC
BEGIN:STANDARD
TZOFFSETFROM:+0000
TZOFFSETTO:+0000
TZNAME:UTC
DTSTART:20240101T000000
END:STANDARD
END:VTIMEZONE
BEGIN:VEVENT
DTSTART;VALUE=DATE:20250807
DTEND;VALUE=DATE:20250818
DTSTAMP:20260422T094619
CREATED:20250324T172834Z
LAST-MODIFIED:20250324T172906Z
UID:4063-1754524800-1755475199@www.eaglebeamlights.com
SUMMARY:Illinois State Fair
DESCRIPTION:
URL:https://www.eaglebeamlights.com/event/illinois-state-fair/
LOCATION:Illinois State Fairgrounds\, 801 E. Sangamon Ave.\, Springfield\, IL\, 62794\, United States
CATEGORIES:State Fair
END:VEVENT
END:VCALENDAR