BEGIN:VCALENDAR
VERSION:2.0
PRODID:-//Eagle Beam - ECPv6.15.17.1//NONSGML v1.0//EN
CALSCALE:GREGORIAN
METHOD:PUBLISH
X-WR-CALNAME:Eagle Beam
X-ORIGINAL-URL:https://www.eaglebeamlights.com
X-WR-CALDESC:Events for Eagle Beam
REFRESH-INTERVAL;VALUE=DURATION:PT1H
X-Robots-Tag:noindex
X-PUBLISHED-TTL:PT1H
BEGIN:VTIMEZONE
TZID:UTC
BEGIN:STANDARD
TZOFFSETFROM:+0000
TZOFFSETTO:+0000
TZNAME:UTC
DTSTART:20240101T000000
END:STANDARD
END:VTIMEZONE
BEGIN:VEVENT
DTSTART;VALUE=DATE:20250723
DTEND;VALUE=DATE:20250804
DTSTAMP:20260422T094640
CREATED:20250324T172011Z
LAST-MODIFIED:20250324T172336Z
UID:4057-1753228800-1754265599@www.eaglebeamlights.com
SUMMARY:Ohio State Fair
DESCRIPTION:
URL:https://www.eaglebeamlights.com/event/ohio-state-fair-3/
LOCATION:Ohio Expo Center and State Fair\, 717 East 17th Ave.\, Columbus\, OH\, 43211\, United States
CATEGORIES:State Fair
END:VEVENT
BEGIN:VEVENT
DTSTART;VALUE=DATE:20250731
DTEND;VALUE=DATE:20250811
DTSTAMP:20260422T094640
CREATED:20250324T172259Z
LAST-MODIFIED:20250324T172259Z
UID:4060-1753920000-1754870399@www.eaglebeamlights.com
SUMMARY:Wisconsin State Fair
DESCRIPTION:
URL:https://www.eaglebeamlights.com/event/wisconsin-state-fair/
LOCATION:Wisconsin State Fair Park\, 640 South 84th St.\, West Alis\, WI\, 53214\, United States
CATEGORIES:State Fair
END:VEVENT
END:VCALENDAR